BEGIN:VCALENDAR
VERSION:2.0
PRODID:icalendar-ruby
CALSCALE:GREGORIAN
METHOD:PUBLISH
BEGIN:VEVENT
DTSTAMP:20260419T161126Z
UID:197-6239984@cornerstonefoursquarechurch.com
DTSTART:20260504T000000Z
DTEND:20260504T010000Z
CLASS:PUBLIC
CREATED:20260411T094354
DESCRIPTION:Cornerstone Church is pleased to announce our 2026 Annual Gener
 al Meeting.\nThis membership meeting will include reviewing our 2025 finan
 cial reports\, ratifying new council members and a presentation by Pastor 
 Barry about "The Five Pillars" of our church.\nAll Cornerstone Church Memb
 ers are encouraged to attend this important meeting.\nPlease click on Meet
  The Nominees to discover who is being ratified to serve on church council
  for a two-year term.
LAST-MODIFIED:20260411T094354
LOCATION:2640 Rundlelawn Road NE Calgary AB
SUMMARY:Annual General Meeting
URL;VALUE=URI:https://www.cornerstonefoursquarechurch.com/events/annual-gen
 eral-meeting--197/2026-05-03
ATTACH;FILENAME=Annual-General-Meeting.png;FMTTYPE=image/png:https://dq5pwp
 g1q8ru0.cloudfront.net/2026/04/10/22/28/04/e7581f83-f09e-4d73-b04a-6ca9e5e
 dab0c/Annual-General-Meeting.png
END:VEVENT
END:VCALENDAR
